BEGIN:VCALENDAR
VERSION:2.0
PRODID:spatie/icalendar-generator
DESCRIPTION:Events from Trafford Sub Aqua Club
X-WR-CALDESC:Events from Trafford Sub Aqua Club
REFRESH-INTERVAL;VALUE=DURATION:PT1440M
X-PUBLISHED-TTL:PT1440M
BEGIN:VTIMEZONE
TZID:Europe/London
BEGIN:STANDARD
DTSTART:20241027T020000Z
TZOFFSETFROM:+0100
TZOFFSETTO:+0000
END:STANDARD
BEGIN:DAYLIGHT
DTSTART:20250330T010000Z
TZOFFSETFROM:+0000
TZOFFSETTO:+0100
END:DAYLIGHT
END:VTIMEZONE
BEGIN:VTIMEZONE
TZID:UTC
BEGIN:STANDARD
DTSTART:20250724T102819Z
TZOFFSETFROM:+0000
TZOFFSETTO:+0000
END:STANDARD
END:VTIMEZONE
BEGIN:VEVENT
UID:1223-110
DTSTAMP:20260420T102819Z
SUMMARY:Quiz night
LOCATION:John Alker Club Flixton Rd Flixton\, Urmston  Manchester   M41 6QY
ORGANIZER;CN=Simon Read:MAILTO:Read1734@aol.com
DTSTART;TZID=Europe/London:20250226T190000
DTEND;TZID=Europe/London:20250226T220000
X-ALT-DESC;FMTTYPE=TEXT/HTML:Quiz night Come along to the John Alker for on
 e of our regular quiz nights. You can come as a team or as a an individual
  and join one of the teams. Bring friends and family to join in\, the more
  the merrier. Prizes on offer for the winning team and the chance to catch
 &amp;hellip\;
CATEGORIES:Social event,  TSAC Club Events
URL;VALUE=URI:https://traffordsubaqua.co.uk/mc-events/quiz-night/
METHOD:PUBLISH
END:VEVENT
END:VCALENDAR